BEGIN:VCALENDAR
VERSION:2.0
PRODID:-//Toledo Walleye//www.toledowalleye.com//EN
CALSCALE:GREGORIAN
BEGIN:VEVENT
UID:https://www.toledowalleye.com/events/2026/04/30/walleye-playoffs-watch-
 party-central-division-semifinals-game-5
DTSTAMP:20260421T115953Z
SUMMARY:Walleye Playoffs Watch Party: Central Division Semifinals Game 5
DTSTART;TZID=America/New_York:20260430T200000
DTEND;TZID=America/New_York:20260430T230000
DESCRIPTION:The 2026 postseason is here! Cheer on the Walleye during the Ke
 lly Cup playoffs at Fleetwood’s Tap Room\, the official home for road pl
 ayoff games.
LOCATION:Fleetwood's Tap Room\, Toledo\, OH
URL;VALUE=URI:https://www.toledowalleye.com/events/2026/04/30/walleye-playo
 ffs-watch-party-central-division-semifinals-game-5
END:VEVENT
END:VCALENDAR
