BEGIN:VCALENDAR
VERSION:2.0
PRODID:-//Toledo Walleye//www.toledowalleye.com//EN
CALSCALE:GREGORIAN
BEGIN:VEVENT
UID:https://www.toledowalleye.com/games/2026/04/23/central-division-semifin
 als-vs-bloomington-game-1
DTSTAMP:20260420T113530Z
SUMMARY:Central Division Semifinals vs. Bloomington: Game 1
DTSTART;TZID=Canada/Eastern:20260423T191500
DTEND;TZID=Canada/Eastern:20260423T221500
DESCRIPTION:Bloomington Bison at Toledo Walleye
LOCATION:Huntington Center\, Toledo\, Ohio
URL;VALUE=URI:https://www.toledowalleye.com/games/2026/04/23/central-divisi
 on-semifinals-vs-bloomington-game-1
END:VEVENT
END:VCALENDAR
