BEGIN:VCALENDAR
VERSION:2.0
PRODID:-//Toledo Walleye//www.toledowalleye.com//EN
CALSCALE:GREGORIAN
BEGIN:VEVENT
UID:https://www.toledowalleye.com/games/2026/04/30/bloomington-bison
DTSTAMP:20260420T132243Z
SUMMARY:Toledo Walleye @ Bloomington Bison
DTSTART;TZID=Canada/Central:20260430T190000
DTEND;TZID=Canada/Central:20260430T220000
DESCRIPTION:Toledo Walleye at Bloomington Bison
LOCATION:Grossinger Motors Arena\, Bloomington\, Illinois
URL;VALUE=URI:https://www.toledowalleye.com/games/2026/04/30/bloomington-bi
 son
END:VEVENT
END:VCALENDAR
