BEGIN:VCALENDAR
VERSION:2.0
PRODID:-//Toledo Walleye//www.toledowalleye.com//EN
CALSCALE:GREGORIAN
BEGIN:VEVENT
UID:https://www.toledowalleye.com/games/2026/05/03/central-division-semifin
 als-vs-bloomington-game-6
DTSTAMP:20260420T113401Z
SUMMARY:Central Division Semifinals vs. Bloomington: Game 6
DTSTART;TZID=Canada/Eastern:20260503T151500
DTEND;TZID=Canada/Eastern:20260503T181500
DESCRIPTION:Bloomington Bison at Toledo Walleye
LOCATION:Huntington Center\, Toledo\, Ohio
URL;VALUE=URI:https://www.toledowalleye.com/games/2026/05/03/central-divisi
 on-semifinals-vs-bloomington-game-6
END:VEVENT
END:VCALENDAR
